BEGIN:VCALENDAR
VERSION:2.0
PRODID:-//Plone.org//NONSGML plone.app.event//EN
X-WR-TIMEZONE:America/Detroit
BEGIN:VEVENT
SUMMARY:Dr. Alan Wolfelt - Understanding Your Grief: Touchstones for Hope 
 and Healing
DTSTART;TZID=America/Detroit;VALUE=DATE-TIME:20241015T180000
DTEND;TZID=America/Detroit;VALUE=DATE-TIME:20241015T200000
DTSTAMP;VALUE=DATE-TIME:20260423T201616Z
UID:ca19be5c4fb34fe38001503f5aa9c812
CONTACT:Funeral Home Office\, 810 982-0179\, info@pollockrandall.com
CREATED;VALUE=DATE-TIME:20200618T215550Z
DESCRIPTION:Evening Program for Everyone - Free Admission
LAST-MODIFIED;VALUE=DATE-TIME:20240711T172003Z
LOCATION:Port Huron Northern Performing Arts Center
URL:https://karrersimpson.com/events/dr-alan-wolfelt-save-the-date
END:VEVENT
BEGIN:VTIMEZONE
TZID:America/Detroit
X-LIC-LOCATION:America/Detroit
BEGIN:DAYLIGHT
DTSTART;VALUE=DATE-TIME:20240310T030000
TZNAME:EDT
TZOFFSETFROM:-0500
TZOFFSETTO:-0400
END:DAYLIGHT
END:VTIMEZONE
END:VCALENDAR
