BEGIN:VCALENDAR
VERSION:2.0
PRODID:-//Plone.org//NONSGML plone.app.event//EN
X-WR-TIMEZONE:America/Detroit
BEGIN:VEVENT
SUMMARY:Charles C Cuthbertson - Funeral Service
DTSTART;TZID=America/Detroit;VALUE=DATE-TIME:20250207T110000
DTEND;TZID=America/Detroit;VALUE=DATE-TIME:20250207T120000
DTSTAMP;VALUE=DATE-TIME:20260423T165810Z
UID:3b620fa0944a45299931d4986f01d506
CONTACT:Karrer-Simpson Office\, 810 985-9605\, info@karrersimpson.com\, ht
 tps://maps.google.com/?q=Trinity+Lutheran+Church+1517+10th+St.+Port+Huron+
 MI+48060
CREATED;VALUE=DATE-TIME:20260131T232313Z
DESCRIPTION:Trinity Lutheran Church
LAST-MODIFIED;VALUE=DATE-TIME:20260131T232314Z
LOCATION:1517 - 10th St.\, Port Huron\, MI\, 48060
URL:https://karrersimpson.com/obituaries/17699/event-30060
END:VEVENT
BEGIN:VEVENT
SUMMARY:Charles C Cuthbertson - Visitation
DTSTART;TZID=America/Detroit;VALUE=DATE-TIME:20250207T100000
DTEND;TZID=America/Detroit;VALUE=DATE-TIME:20250207T110000
DTSTAMP;VALUE=DATE-TIME:20260423T165810Z
UID:27e70d0741694c35b253a414a245704a
CONTACT:Karrer-Simpson Office\, 810 985-9605\, info@karrersimpson.com\, ht
 tps://maps.google.com/?q=Trinity+Lutheran+Church+1517+10th+St.+Port+Huron+
 MI+48060
CREATED;VALUE=DATE-TIME:20260131T232312Z
DESCRIPTION:Trinity Lutheran Church
LAST-MODIFIED;VALUE=DATE-TIME:20260131T232313Z
LOCATION:1517 - 10th St.\, Port Huron\, MI\, 48060
URL:https://karrersimpson.com/obituaries/17699/event-30059
END:VEVENT
BEGIN:VEVENT
SUMMARY:Charles C Cuthbertson - Visitation
DTSTART;TZID=America/Detroit;VALUE=DATE-TIME:20250206T180000
DTEND;TZID=America/Detroit;VALUE=DATE-TIME:20250206T200000
DTSTAMP;VALUE=DATE-TIME:20260423T165810Z
UID:9361f534d66249948cd03cb3a98f627b
CONTACT:Karrer-Simpson Office\, 810 985-9605\, info@karrersimpson.com\, ht
 tps://maps.google.com/?q=Karrer+Simpson+Funeral+Home+1720+Elk+Street+Port+
 Huron+MI+48060
CREATED;VALUE=DATE-TIME:20260131T232311Z
DESCRIPTION:Karrer-Simpson Funeral Home
LAST-MODIFIED;VALUE=DATE-TIME:20260131T232311Z
LOCATION:1720 Elk Street\, Port Huron\, MI\, 48060
URL:https://karrersimpson.com/obituaries/17699/event-30058
END:VEVENT
BEGIN:VEVENT
SUMMARY:Charles C Cuthbertson - Visitation
DTSTART;TZID=America/Detroit;VALUE=DATE-TIME:20250206T140000
DTEND;TZID=America/Detroit;VALUE=DATE-TIME:20250206T160000
DTSTAMP;VALUE=DATE-TIME:20260423T165810Z
UID:15560aaa38e74fea8ab757f1d31f0f2c
CONTACT:Karrer-Simpson Office\, 810 985-9605\, info@karrersimpson.com\, ht
 tps://maps.google.com/?q=Karrer+Simpson+Funeral+Home+1720+Elk+Street+Port+
 Huron+MI+48060
CREATED;VALUE=DATE-TIME:20260131T232309Z
DESCRIPTION:Karrer-Simpson Funeral Home
LAST-MODIFIED;VALUE=DATE-TIME:20260131T232310Z
LOCATION:1720 Elk Street\, Port Huron\, MI\, 48060
URL:https://karrersimpson.com/obituaries/17699/event-30057
END:VEVENT
BEGIN:VTIMEZONE
TZID:America/Detroit
X-LIC-LOCATION:America/Detroit
BEGIN:STANDARD
DTSTART;VALUE=DATE-TIME:20241103T010000
TZNAME:EST
TZOFFSETFROM:-0400
TZOFFSETTO:-0500
END:STANDARD
END:VTIMEZONE
END:VCALENDAR
