BEGIN:VCALENDAR
VERSION:2.0
PRODID:-//Plone.org//NONSGML plone.app.event//EN
X-WR-TIMEZONE:America/Detroit
BEGIN:VEVENT
SUMMARY:Ronnie Floyd Locke  - Funeral Service
DTSTART;TZID=America/Detroit;VALUE=DATE-TIME:20250222T110000
DTEND;TZID=America/Detroit;VALUE=DATE-TIME:20250222T120000
DTSTAMP;VALUE=DATE-TIME:20260423T002631Z
UID:59c137a6c826477fa2b0d84465d4b183
CONTACT:Karrer-Simpson Office\, 810 985-9605\, info@karrersimpson.com\, ht
 tps://maps.google.com/?q=Faith+Lutheran+Church+3455+Stone+St.+Port+Huron+M
 I+48060
CREATED;VALUE=DATE-TIME:20260131T232210Z
DESCRIPTION:Faith Lutheran Church
LAST-MODIFIED;VALUE=DATE-TIME:20260131T232210Z
LOCATION:3455 Stone St. \, Port Huron\, MI\, 48060
URL:https://karrersimpson.com/obituaries/17723/event-30087
END:VEVENT
BEGIN:VEVENT
SUMMARY:Ronnie Floyd Locke  - Visitation
DTSTART;TZID=America/Detroit;VALUE=DATE-TIME:20250222T100000
DTEND;TZID=America/Detroit;VALUE=DATE-TIME:20250222T110000
DTSTAMP;VALUE=DATE-TIME:20260423T002631Z
UID:b38e49ab30734175b676e096ae3756ee
CONTACT:Karrer-Simpson Office\, 810 985-9605\, info@karrersimpson.com\, ht
 tps://maps.google.com/?q=Faith+Lutheran+Church+3455+Stone+St.+Port+Huron+M
 I+48060
CREATED;VALUE=DATE-TIME:20260131T232207Z
DESCRIPTION:Faith Lutheran Church
LAST-MODIFIED;VALUE=DATE-TIME:20260131T232208Z
LOCATION:3455 Stone St. \, Port Huron\, MI\, 48060
URL:https://karrersimpson.com/obituaries/17723/event-30086
END:VEVENT
BEGIN:VEVENT
SUMMARY:Ronnie Floyd Locke  - Visitation
DTSTART;TZID=America/Detroit;VALUE=DATE-TIME:20250221T150000
DTEND;TZID=America/Detroit;VALUE=DATE-TIME:20250221T180000
DTSTAMP;VALUE=DATE-TIME:20260423T002631Z
UID:3b806d80429d45e4a884abec7e915dc7
CONTACT:Karrer-Simpson Office\, 810 985-9605\, info@karrersimpson.com\, ht
 tps://maps.google.com/?q=Karrer+Simpson+Funeral+Home+1720+Elk+Street+Port+
 Huron+MI+48060
CREATED;VALUE=DATE-TIME:20260131T232206Z
DESCRIPTION:Karrer-Simpson Funeral Home
LAST-MODIFIED;VALUE=DATE-TIME:20260131T232207Z
LOCATION:1720 Elk Street\, Port Huron\, MI\, 48060
URL:https://karrersimpson.com/obituaries/17723/event-30085
END:VEVENT
BEGIN:VTIMEZONE
TZID:America/Detroit
X-LIC-LOCATION:America/Detroit
BEGIN:STANDARD
DTSTART;VALUE=DATE-TIME:20241103T010000
TZNAME:EST
TZOFFSETFROM:-0400
TZOFFSETTO:-0500
END:STANDARD
END:VTIMEZONE
END:VCALENDAR
