BEGIN:VCALENDAR
VERSION:2.0
PRODID:-//Plone.org//NONSGML plone.app.event//EN
X-WR-TIMEZONE:America/Detroit
BEGIN:VEVENT
SUMMARY:Paula McCarthy - Rite of Committal
DTSTART;TZID=America/Detroit;VALUE=DATE-TIME:20250324T120000
DTEND;TZID=America/Detroit;VALUE=DATE-TIME:20250324T130000
DTSTAMP;VALUE=DATE-TIME:20260423T050135Z
UID:44982ddfbf6c464a80b01b8dc5aa1990
CONTACT:Karrer-Simpson Office\, 810 985-9605\, info@karrersimpson.com\, ht
 tps://maps.google.com/?q=Mt.+Hope+Catholic+Cemetery+1209+Krafft+Rd.+Port+H
 uron+MI+48060
CREATED;VALUE=DATE-TIME:20260131T231948Z
DESCRIPTION:Mt. Hope Catholic Cemetery
LAST-MODIFIED;VALUE=DATE-TIME:20260131T231949Z
LOCATION:1209 Krafft Rd.\, Port Huron\, MI\, 48060
URL:https://karrersimpson.com/obituaries/17785/event-30169
END:VEVENT
BEGIN:VEVENT
SUMMARY:Paula McCarthy - Tridentine Mass
DTSTART;TZID=America/Detroit;VALUE=DATE-TIME:20250322T110000
DTEND;TZID=America/Detroit;VALUE=DATE-TIME:20250322T120000
DTSTAMP;VALUE=DATE-TIME:20260423T050135Z
UID:c22b30366da64cf4942a1bdfc1d7998f
CONTACT:Karrer-Simpson Office\, 810 985-9605\, info@karrersimpson.com\, ht
 tps://maps.google.com/?q=St.+Edward+On+The+Lake+Catholic+Church+6945+Lakes
 hore+Road+Lakeport+MI+48059
CREATED;VALUE=DATE-TIME:20260131T231944Z
DESCRIPTION:St. Edward On The Lake Catholic Church
LAST-MODIFIED;VALUE=DATE-TIME:20260131T231946Z
LOCATION:6945 Lakeshore Road\, Lakeport\, MI\, 48059
URL:https://karrersimpson.com/obituaries/17785/event-30168
END:VEVENT
BEGIN:VEVENT
SUMMARY:Paula McCarthy - Visitation
DTSTART;TZID=America/Detroit;VALUE=DATE-TIME:20250322T100000
DTEND;TZID=America/Detroit;VALUE=DATE-TIME:20250322T110000
DTSTAMP;VALUE=DATE-TIME:20260423T050135Z
UID:c2ee185fd39f42d6bbc189480c1c2d14
CONTACT:Karrer-Simpson Office\, 810 985-9605\, info@karrersimpson.com\, ht
 tps://maps.google.com/?q=St.+Edward+On+The+Lake+Catholic+Church+6945+Lakes
 hore+Road+Lakeport+MI+48059
CREATED;VALUE=DATE-TIME:20260131T231943Z
DESCRIPTION:St. Edward On The Lake Catholic Church
LAST-MODIFIED;VALUE=DATE-TIME:20260131T231944Z
LOCATION:6945 Lakeshore Road\, Lakeport\, MI\, 48059
URL:https://karrersimpson.com/obituaries/17785/event-30167
END:VEVENT
BEGIN:VEVENT
SUMMARY:Paula McCarthy - Visitation
DTSTART;TZID=America/Detroit;VALUE=DATE-TIME:20250321T150000
DTEND;TZID=America/Detroit;VALUE=DATE-TIME:20250321T200000
DTSTAMP;VALUE=DATE-TIME:20260423T050135Z
UID:fb4d48e70f304112858b8a077df2cee1
CONTACT:Karrer-Simpson Office\, 810 985-9605\, info@karrersimpson.com\, ht
 tps://maps.google.com/?q=Karrer+Simpson+Funeral+Home+1720+Elk+Street+Port+
 Huron+MI+48060
CREATED;VALUE=DATE-TIME:20260131T231942Z
DESCRIPTION:Karrer-Simpson Funeral Home
LAST-MODIFIED;VALUE=DATE-TIME:20260131T231943Z
LOCATION:1720 Elk Street\, Port Huron\, MI\, 48060
URL:https://karrersimpson.com/obituaries/17785/event-30166
END:VEVENT
BEGIN:VTIMEZONE
TZID:America/Detroit
X-LIC-LOCATION:America/Detroit
BEGIN:DAYLIGHT
DTSTART;VALUE=DATE-TIME:20250309T030000
TZNAME:EDT
TZOFFSETFROM:-0500
TZOFFSETTO:-0400
END:DAYLIGHT
END:VTIMEZONE
END:VCALENDAR
