BEGIN:VCALENDAR
VERSION:2.0
PRODID:-//Plone.org//NONSGML plone.app.event//EN
X-WR-TIMEZONE:America/Detroit
BEGIN:VEVENT
SUMMARY:Daniel L Scallion - Visitation
DTSTART;TZID=America/Detroit;VALUE=DATE-TIME:20260423T140000
DTEND;TZID=America/Detroit;VALUE=DATE-TIME:20260423T160000
DTSTAMP;VALUE=DATE-TIME:20260422T174347Z
UID:010115fd976d4441bbfcec28b0983700
CONTACT:Pollock-Randall Office\, 810 982-0179\, info@pollockrandall.com\, 
 https://maps.google.com/?q=Karrer+Simpson+Funeral+Home+1720+Elk+Street+Por
 t+Huron+MI+48060
CREATED;VALUE=DATE-TIME:20260422T184627Z
DESCRIPTION:Karrer-Simpson Funeral Home
LAST-MODIFIED;VALUE=DATE-TIME:20260422T184627Z
LOCATION:1720 Elk Street\, Port Huron\, MI\, 48060
URL:https://karrersimpson.com/obituaries/18487/event-31335
END:VEVENT
BEGIN:VEVENT
SUMMARY:Daniel L Scallion - Visitation
DTSTART;TZID=America/Detroit;VALUE=DATE-TIME:20260423T180000
DTEND;TZID=America/Detroit;VALUE=DATE-TIME:20260423T200000
DTSTAMP;VALUE=DATE-TIME:20260422T174347Z
UID:043fca5704624a2eb62c7e28717051f6
CONTACT:Pollock-Randall Office\, 810 982-0179\, info@pollockrandall.com\, 
 https://maps.google.com/?q=Karrer+Simpson+Funeral+Home+1720+Elk+Street+Por
 t+Huron+MI+48060
CREATED;VALUE=DATE-TIME:20260422T184628Z
DESCRIPTION:Karrer-Simpson Funeral Home
LAST-MODIFIED;VALUE=DATE-TIME:20260422T184629Z
LOCATION:1720 Elk Street\, Port Huron\, MI\, 48060
URL:https://karrersimpson.com/obituaries/18487/event-31336
END:VEVENT
BEGIN:VEVENT
SUMMARY:Daniel L Scallion - Rosary
DTSTART;TZID=America/Detroit;VALUE=DATE-TIME:20260423T193000
DTEND;TZID=America/Detroit;VALUE=DATE-TIME:20260423T200000
DTSTAMP;VALUE=DATE-TIME:20260422T174347Z
UID:f26ece565d894cc9b400d5d7df8b15c5
CONTACT:Pollock-Randall Office\, 810 982-0179\, info@pollockrandall.com\, 
 https://maps.google.com/?q=Karrer+Simpson+Funeral+Home+1720+Elk+Street+Por
 t+Huron+MI+48060
CREATED;VALUE=DATE-TIME:20260422T184823Z
DESCRIPTION:Karrer-Simpson Funeral Home
LAST-MODIFIED;VALUE=DATE-TIME:20260422T184824Z
LOCATION:1720 Elk Street\, Port Huron\, MI\, 48060
URL:https://karrersimpson.com/obituaries/18487/event-31339
END:VEVENT
BEGIN:VEVENT
SUMMARY:Daniel L Scallion - Visitation
DTSTART;TZID=America/Detroit;VALUE=DATE-TIME:20260424T103000
DTEND;TZID=America/Detroit;VALUE=DATE-TIME:20260424T110000
DTSTAMP;VALUE=DATE-TIME:20260422T174347Z
UID:3c19ce85c62a4b0a83e2956a8e32e993
CONTACT:Pollock-Randall Office\, 810 982-0179\, info@pollockrandall.com\, 
 https://maps.google.com/?q=St.+Joseph+Catholic+Church+Port+Huron+1331+7th+
 Street+Port+Huron+MI+48060
CREATED;VALUE=DATE-TIME:20260422T184629Z
DESCRIPTION:St. Joseph Catholic Church - Port Huron
LAST-MODIFIED;VALUE=DATE-TIME:20260422T184630Z
LOCATION:1331 7th Street\, Port Huron\, MI\, 48060
URL:https://karrersimpson.com/obituaries/18487/event-31337
END:VEVENT
BEGIN:VEVENT
SUMMARY:Daniel L Scallion - Funeral Mass
DTSTART;TZID=America/Detroit;VALUE=DATE-TIME:20260424T110000
DTEND;TZID=America/Detroit;VALUE=DATE-TIME:20260424T120000
DTSTAMP;VALUE=DATE-TIME:20260422T174347Z
UID:c9b532bbb40c436cbcb2a13f390846a8
CONTACT:Pollock-Randall Office\, 810 982-0179\, info@pollockrandall.com\, 
 https://maps.google.com/?q=St.+Joseph+Catholic+Church+Port+Huron+1331+7th+
 Street+Port+Huron+MI+48060
CREATED;VALUE=DATE-TIME:20260422T184631Z
DESCRIPTION:St. Joseph Catholic Church - Port Huron
LAST-MODIFIED;VALUE=DATE-TIME:20260422T184631Z
LOCATION:1331 7th Street\, Port Huron\, MI\, 48060
URL:https://karrersimpson.com/obituaries/18487/event-31338
END:VEVENT
BEGIN:VTIMEZONE
TZID:America/Detroit
X-LIC-LOCATION:America/Detroit
BEGIN:DAYLIGHT
DTSTART;VALUE=DATE-TIME:20260308T030000
TZNAME:EDT
TZOFFSETFROM:-0500
TZOFFSETTO:-0400
END:DAYLIGHT
END:VTIMEZONE
END:VCALENDAR
