BEGIN:VCALENDAR
VERSION:2.0
PRODID:-//Plone.org//NONSGML plone.app.event//EN
X-WR-TIMEZONE:America/Detroit
BEGIN:VEVENT
SUMMARY:Daniel L Scallion - Visitation
DTSTART;TZID=America/Detroit;VALUE=DATE-TIME:20260423T140000
DTEND;TZID=America/Detroit;VALUE=DATE-TIME:20260423T160000
DTSTAMP;VALUE=DATE-TIME:20260422T174756Z
UID:010115fd976d4441bbfcec28b0983700
CONTACT:Pollock-Randall Office\, 810 982-0179\, info@pollockrandall.com\, 
 https://maps.google.com/?q=Karrer+Simpson+Funeral+Home+1720+Elk+Street+Por
 t+Huron+MI+48060
CREATED;VALUE=DATE-TIME:20260422T184627Z
DESCRIPTION:Karrer-Simpson Funeral Home
LAST-MODIFIED;VALUE=DATE-TIME:20260422T184627Z
LOCATION:1720 Elk Street\, Port Huron\, MI\, 48060
URL:https://karrersimpson.com/obituaries/18487/event-31335
END:VEVENT
BEGIN:VTIMEZONE
TZID:America/Detroit
X-LIC-LOCATION:America/Detroit
BEGIN:DAYLIGHT
DTSTART;VALUE=DATE-TIME:20260308T030000
TZNAME:EDT
TZOFFSETFROM:-0500
TZOFFSETTO:-0400
END:DAYLIGHT
END:VTIMEZONE
END:VCALENDAR
