BEGIN:VCALENDAR
VERSION:2.0
PRODID:-//Plone.org//NONSGML plone.app.event//EN
X-WR-TIMEZONE:America/Detroit
BEGIN:VEVENT
SUMMARY:Daniel L Scallion - Funeral Mass
DTSTART;TZID=America/Detroit;VALUE=DATE-TIME:20260424T110000
DTEND;TZID=America/Detroit;VALUE=DATE-TIME:20260424T120000
DTSTAMP;VALUE=DATE-TIME:20260422T174412Z
UID:c9b532bbb40c436cbcb2a13f390846a8
CONTACT:Pollock-Randall Office\, 810 982-0179\, info@pollockrandall.com\, 
 https://maps.google.com/?q=St.+Joseph+Catholic+Church+Port+Huron+1331+7th+
 Street+Port+Huron+MI+48060
CREATED;VALUE=DATE-TIME:20260422T184631Z
DESCRIPTION:St. Joseph Catholic Church - Port Huron
LAST-MODIFIED;VALUE=DATE-TIME:20260422T184631Z
LOCATION:1331 7th Street\, Port Huron\, MI\, 48060
URL:https://karrersimpson.com/obituaries/18487/event-31338
END:VEVENT
BEGIN:VTIMEZONE
TZID:America/Detroit
X-LIC-LOCATION:America/Detroit
BEGIN:DAYLIGHT
DTSTART;VALUE=DATE-TIME:20260308T030000
TZNAME:EDT
TZOFFSETFROM:-0500
TZOFFSETTO:-0400
END:DAYLIGHT
END:VTIMEZONE
END:VCALENDAR
